BEGIN:VCALENDAR
VERSION:2.0
PRODID:Spatie calendar-links
BEGIN:VEVENT
UID:https://sachsen.tours/?post_type=mi-event-date&#038;p=39395
SUMMARY:22. KUNST:offen in Sachsen
DTSTAMP:20260522T220000Z
DTSTART;VALUE=DATE:20260523
DURATION:P3D
DESCRIPTION:Mehr Informationen: https://sachsen.tours/veranstaltungen/kunst-offen/
LOCATION:ehem. Schmalspurbahn Klingenberg-Colmnitz–Oberdittmannsdorf \, 01737 Tharandt 
END:VEVENT
END:VCALENDAR