BEGIN:VCALENDAR
VERSION:2.0
PRODID:Spatie calendar-links
BEGIN:VEVENT
UID:https://sachsen.tours/?post_type=mi-event-date&#038;p=33668
SUMMARY:27. Tage des offenen Weingutes Sachsen
DTSTAMP:20260828T220000Z
DTSTART;VALUE=DATE:20260829
DURATION:P2D
DESCRIPTION:Mehr Informationen: https://sachsen.tours/veranstaltungen/offenes-weingut/
END:VEVENT
END:VCALENDAR