BEGIN:VCALENDAR
VERSION:2.0
PRODID:Spatie calendar-links
BEGIN:VEVENT
UID:https://sachsen.tours/?post_type=mi-event-date&#038;p=34232
SUMMARY:34. Herbst- und Weinfest Radebeul
DTSTAMP:20260917T220000Z
DTSTART;VALUE=DATE:20260918
DURATION:P3D
DESCRIPTION:Mehr Informationen: https://sachsen.tours/veranstaltungen/weinfest-radebeul/
LOCATION:Altkötzschenbroda \, 01445 Radebeul 
END:VEVENT
END:VCALENDAR