BEGIN:VCALENDAR
VERSION:2.0
PRODID:Spatie calendar-links
BEGIN:VEVENT
UID:https://sachsen.tours/?post_type=mi-event-date&#038;p=35614
SUMMARY:35. Herbst- und Weinfest Radebeul
DTSTAMP:20270916T220000Z
DTSTART;VALUE=DATE:20270917
DURATION:P3D
DESCRIPTION:Mehr Informationen: https://sachsen.tours/veranstaltungen/weinfest-radebeul/
LOCATION:Altkötzschenbroda \, 01445 Radebeul 
END:VEVENT
END:VCALENDAR