BEGIN:VCALENDAR
VERSION:2.0
PRODID:Spatie calendar-links
BEGIN:VEVENT
UID:https://sachsen.tours/?post_type=mi-event-date&#038;p=35602
SUMMARY:40. Kasperiade in Radebeul
DTSTAMP:20270611T220000Z
DTSTART;VALUE=DATE:20270612
DURATION:P2D
DESCRIPTION:Mehr Informationen: https://sachsen.tours/veranstaltungen/radebeuler-kasperiade/
LOCATION:Pestalozzistraße 6a\, 01445 Radebeul 
END:VEVENT
END:VCALENDAR