BEGIN:VCALENDAR
VERSION:2.0
PRODID:Spatie calendar-links
BEGIN:VEVENT
UID:https://sachsen.tours/?post_type=mi-event-date&#038;p=34041
SUMMARY:63. Lübbener Kahnnacht
DTSTAMP:20260717T220000Z
DTSTART;VALUE=DATE:20260718
DURATION:P1D
DESCRIPTION:Mehr Informationen: https://sachsen.tours/veranstaltungen/luebbener-kahnnacht/
LOCATION:15907 Lübben (Spreewald) 
END:VEVENT
END:VCALENDAR