BEGIN:VCALENDAR
VERSION:2.0
PRODID:Spatie calendar-links
BEGIN:VEVENT
UID:https://sachsen.tours/?post_type=mi-event-date&#038;p=37774
SUMMARY:AprésSki Party im Weingut Loose
DTSTAMP:20261126T230000Z
DTSTART;VALUE=DATE:20261127
DURATION:P1D
DESCRIPTION:Mehr Informationen: https://sachsen.tours/veranstaltungen/apresski-party-im-weingut-loose/
LOCATION:Im Winkel 5\, 01689 Niederau 
END:VEVENT
END:VCALENDAR