BEGIN:VCALENDAR
VERSION:2.0
PRODID:Spatie calendar-links
BEGIN:VEVENT
UID:https://sachsen.tours/?post_type=mi-event-date&#038;p=37753
SUMMARY:Die Schielerparty
DTSTAMP:20260702T220000Z
DTSTART;VALUE=DATE:20260703
DURATION:P1D
DESCRIPTION:Mehr Informationen: https://sachsen.tours/veranstaltungen/die-schielerparty/
LOCATION:Im Winkel 5\, 01689 Niederau 
END:VEVENT
END:VCALENDAR