BEGIN:VCALENDAR
VERSION:2.0
PRODID:Spatie calendar-links
BEGIN:VEVENT
UID:https://sachsen.tours/?post_type=mi-event-date&#038;p=39050
SUMMARY:Familienführung „Auf den Spuren der Indianer“
DTSTAMP:20260713T220000Z
DTSTART;VALUE=DATE:20260714
DURATION:P1D
DESCRIPTION:Mehr Informationen: https://sachsen.tours/veranstaltungen/familienfuehrung-karl-may-museum/
LOCATION:Karl-May-Straße 5\, 01445 Radebeul 
END:VEVENT
END:VCALENDAR