BEGIN:VCALENDAR
VERSION:2.0
PRODID:Spatie calendar-links
BEGIN:VEVENT
UID:https://sachsen.tours/?post_type=mi-event-date&#038;p=38546
SUMMARY:Halloween » GRUSELHAUSEN  in Oskarshausen
DTSTAMP:20261029T230000Z
DTSTART;VALUE=DATE:20261030
DURATION:P1D
DESCRIPTION:Mehr Informationen: https://sachsen.tours/veranstaltungen/gruselhausen-in-oskarshausen/
LOCATION:Burgker Straße 39\, 01705 Freital  OT Potschappel
END:VEVENT
END:VCALENDAR