BEGIN:VCALENDAR
VERSION:2.0
PRODID:Spatie calendar-links
BEGIN:VEVENT
UID:https://sachsen.tours/?post_type=mi-event-date&#038;p=35056
SUMMARY:Himmelfahrt im Helenenhof
DTSTAMP:20260513T220000Z
DTSTART;VALUE=DATE:20260514
DURATION:P1D
DESCRIPTION:Mehr Informationen: https://sachsen.tours/veranstaltungen/himmelfahrt-helenenhof/
LOCATION:Schulsteig 2\, 01773 Altenberg 
END:VEVENT
END:VCALENDAR