BEGIN:VCALENDAR
VERSION:2.0
PRODID:Spatie calendar-links
BEGIN:VEVENT
UID:https://sachsen.tours/?post_type=mi-event-date&#038;p=39453
SUMMARY:Himmelfahrt in Cunewalde
DTSTAMP:20260513T220000Z
DTSTART;VALUE=DATE:20260514
DURATION:P1D
DESCRIPTION:Mehr Informationen: https://sachsen.tours/veranstaltungen/himmelfahrt-in-cunewalde/
LOCATION:Hauptstraße 76 Abzweig Zieglertal\, 02733 Cunewalde 
END:VEVENT
END:VCALENDAR