BEGIN:VCALENDAR
VERSION:2.0
PRODID:Spatie calendar-links
BEGIN:VEVENT
UID:https://sachsen.tours/?post_type=mi-event-date&#038;p=34008
SUMMARY:Internationaler Museumstag
DTSTAMP:20260517T220000Z
DTSTART;VALUE=DATE:20260518
DURATION:P1D
DESCRIPTION:Mehr Informationen: https://sachsen.tours/veranstaltungen/internationaler-museumstag/
END:VEVENT
END:VCALENDAR