BEGIN:VCALENDAR
VERSION:2.0
PRODID:Spatie calendar-links
BEGIN:VEVENT
UID:https://sachsen.tours/?post_type=mi-event-date&#038;p=34075
SUMMARY:Jobmesse Leipzig
DTSTAMP:20260903T220000Z
DTSTART;VALUE=DATE:20260904
DURATION:P2D
DESCRIPTION:Mehr Informationen: https://sachsen.tours/veranstaltungen/jobmesse-leipzig/
LOCATION:Seehausener Allee 1\, 04356 Leipzig 
END:VEVENT
END:VCALENDAR