BEGIN:VCALENDAR
VERSION:2.0
PRODID:Spatie calendar-links
BEGIN:VEVENT
UID:https://sachsen.tours/?post_type=mi-event-date&#038;p=38729
SUMMARY:Mittelalter-Weihnacht im Stallhof
DTSTAMP:20261124T230000Z
DTSTART;VALUE=DATE:20261125
DURATION:P29D
DESCRIPTION:Mehr Informationen: https://sachsen.tours/veranstaltungen/mittelalter-weihnacht-im-stallhof/
LOCATION:Augustusstraße 1\, 01067 Dresden 
END:VEVENT
END:VCALENDAR