BEGIN:VCALENDAR
VERSION:2.0
PRODID:Spatie calendar-links
BEGIN:VEVENT
UID:https://sachsen.tours/?post_type=mi-event-date&#038;p=35274
SUMMARY:Moderierter Schlender-Weinspaziergang ca. 1 bis 1\,5 h
DTSTAMP:20260913T100000Z
DTSTART:20260913T100000Z
DTEND:20260913T110000Z
DESCRIPTION:Mehr Informationen: https://sachsen.tours/veranstaltungen/moderierter-schlender-weinspaziergang-ca-1-bis-15-h/
LOCATION:Meißner Straße \, 01445 Radebeul  OT Zitzschewig
END:VEVENT
END:VCALENDAR