BEGIN:VCALENDAR
VERSION:2.0
PRODID:Spatie calendar-links
BEGIN:VEVENT
UID:https://sachsen.tours/?post_type=mi-event-date&#038;p=34288
SUMMARY:Museumstag im Eisenbahnmuseum
DTSTAMP:20260807T220000Z
DTSTART;VALUE=DATE:20260808
DURATION:P1D
DESCRIPTION:Mehr Informationen: https://sachsen.tours/veranstaltungen/museumstag-im-eisnbahnmuseum/
LOCATION:Zwickauer Str. 86\, 01059 Dresden 
END:VEVENT
END:VCALENDAR