BEGIN:VCALENDAR
VERSION:2.0
PRODID:Spatie calendar-links
BEGIN:VEVENT
UID:https://sachsen.tours/?post_type=mi-event-date&#038;p=33997
SUMMARY:Musikfest Erzgebirge
DTSTAMP:20260903T220000Z
DTSTART;VALUE=DATE:20260904
DURATION:P10D
DESCRIPTION:Mehr Informationen: https://sachsen.tours/veranstaltungen/musikfest-erzgebirge/
LOCATION:Ludwig-Jahn-Straße 7\, 09392 
END:VEVENT
END:VCALENDAR