BEGIN:VCALENDAR
VERSION:2.0
PRODID:Spatie calendar-links
BEGIN:VEVENT
UID:https://sachsen.tours/?post_type=mi-event-date&#038;p=38683
SUMMARY:Ostermesse Dresden
DTSTAMP:20270317T230000Z
DTSTART;VALUE=DATE:20270318
DURATION:P4D
DESCRIPTION:Mehr Informationen: https://sachsen.tours/veranstaltungen/dresdner-ostern/
LOCATION:Messering 6\, 01067 Dresden 
END:VEVENT
END:VCALENDAR