BEGIN:VCALENDAR
VERSION:2.0
PRODID:Spatie calendar-links
BEGIN:VEVENT
UID:https://sachsen.tours/?post_type=mi-event-date&#038;p=39110
SUMMARY:Palais Sommer
DTSTAMP:20260629T220000Z
DTSTART;VALUE=DATE:20260630
DURATION:P62D
DESCRIPTION:Mehr Informationen: https://sachsen.tours/veranstaltungen/palais-sommer/
LOCATION:Neumarkt 9\, 01067 Dresden  OT Innere Altstadt
END:VEVENT
END:VCALENDAR