BEGIN:VCALENDAR
VERSION:2.0
PRODID:Spatie calendar-links
BEGIN:VEVENT
UID:https://sachsen.tours/?post_type=mi-event-date&#038;p=39445
SUMMARY:Probe der Cunewalder Feuerwehr Blaskapelle
DTSTAMP:20260512T220000Z
DTSTART;VALUE=DATE:20260513
DURATION:P1D
DESCRIPTION:Mehr Informationen: https://sachsen.tours/veranstaltungen/cunewalder-feuerwehr-blaskapelle/
LOCATION:Hauptstraße 76 Abzweig Zieglertal\, 02733 CUnewalde 
END:VEVENT
END:VCALENDAR