BEGIN:VCALENDAR
VERSION:2.0
PRODID:Spatie calendar-links
BEGIN:VEVENT
UID:https://sachsen.tours/?post_type=mi-event-date&#038;p=37323
SUMMARY:Romantischer Weihnachtsmarkt
DTSTAMP:20261126T230000Z
DTSTART;VALUE=DATE:20261127
DURATION:P28D
DESCRIPTION:Mehr Informationen: https://sachsen.tours/veranstaltungen/romantische-weihnachtsmarkt/
LOCATION:Schloßplatz \, 01067 Dresden 
END:VEVENT
END:VCALENDAR