BEGIN:VCALENDAR
VERSION:2.0
PRODID:Spatie calendar-links
BEGIN:VEVENT
UID:https://sachsen.tours/?post_type=mi-event-date&#038;p=34837
SUMMARY:Sächsischer Käse- und Spezialitätenmarkt im Klosterpark Altzella
DTSTAMP:20261015T220000Z
DTSTART;VALUE=DATE:20261016
DURATION:P3D
DESCRIPTION:Mehr Informationen: https://sachsen.tours/veranstaltungen/kase-spezialitatenmarkt/
LOCATION:Zellaer Straße 10\, 01683 Nossen 
END:VEVENT
END:VCALENDAR