BEGIN:VCALENDAR
VERSION:2.0
PRODID:Spatie calendar-links
BEGIN:VEVENT
UID:https://sachsen.tours/?post_type=mi-event-date&#038;p=36226
SUMMARY:SemperOpernball
DTSTAMP:20270204T230000Z
DTSTART;VALUE=DATE:20270205
DURATION:P1D
DESCRIPTION:Mehr Informationen: https://sachsen.tours/veranstaltungen/semperopernball/
LOCATION:Theaterplatz 2\, 01067 Dresden 
END:VEVENT
END:VCALENDAR