BEGIN:VCALENDAR
VERSION:2.0
PRODID:Spatie calendar-links
BEGIN:VEVENT
UID:https://sachsen.tours/?post_type=mi-event-date&#038;p=37728
SUMMARY:Spring Break – Saisoneröffnung
DTSTAMP:20260507T220000Z
DTSTART;VALUE=DATE:20260508
DURATION:P1D
DESCRIPTION:Mehr Informationen: https://sachsen.tours/veranstaltungen/spring-break-saisoneroeffnung/
LOCATION:zwischen Niederau und Gröbern\, 01689 Niederau 
END:VEVENT
END:VCALENDAR