BEGIN:VCALENDAR
VERSION:2.0
PRODID:Spatie calendar-links
BEGIN:VEVENT
UID:https://sachsen.tours/?post_type=mi-event-date&#038;p=36094
SUMMARY:Steinrücken-Tour
DTSTAMP:20261016T220000Z
DTSTART;VALUE=DATE:20261017
DURATION:P1D
DESCRIPTION:Mehr Informationen: https://sachsen.tours/veranstaltungen/steinrucken-tour/
LOCATION:Untere Finstere Gasse \, 01445 Radebeul  OT Niederlößnitz
END:VEVENT
END:VCALENDAR