BEGIN:VCALENDAR
VERSION:2.0
PRODID:Spatie calendar-links
BEGIN:VEVENT
UID:https://sachsen.tours/?post_type=mi-event-date&#038;p=33946
SUMMARY:Wave-Gotik-Treffen
DTSTAMP:20260521T220000Z
DTSTART;VALUE=DATE:20260522
DURATION:P4D
DESCRIPTION:Mehr Informationen: https://sachsen.tours/veranstaltungen/wave-gotik-treffen/
LOCATION:Markt \, 04109 Leipzig 
END:VEVENT
END:VCALENDAR