BEGIN:VCALENDAR
VERSION:2.0
PRODID:Spatie calendar-links
BEGIN:VEVENT
UID:https://sachsen.tours/?post_type=mi-event-date&#038;p=35612
SUMMARY:Weihnachtsmarkt in Radebeul-Altkötzschenbroda
DTSTAMP:20271209T230000Z
DTSTART;VALUE=DATE:20271210
DURATION:P3D
DESCRIPTION:Mehr Informationen: https://sachsen.tours/veranstaltungen/weihnachtsmarkt-in-altkoetzschenbroda/
LOCATION:Altkötzschenbroda 14\, 01445 Radebeul  OT Kötzschenbroda
END:VEVENT
END:VCALENDAR