BEGIN:VCALENDAR
VERSION:2.0
PRODID:Spatie calendar-links
BEGIN:VEVENT
UID:https://sachsen.tours/?post_type=mi-event-date&#038;p=33962
SUMMARY:Weinwanderung mit Maria (Muttertag)
DTSTAMP:20260509T220000Z
DTSTART;VALUE=DATE:20260510
DURATION:P1D
DESCRIPTION:Mehr Informationen: https://sachsen.tours/veranstaltungen/weinwanderung-mit-maria/
LOCATION:An der Weinstraße 28\, 01612 Diesbar Seußlitz 
END:VEVENT
END:VCALENDAR