BEGIN:VCALENDAR
VERSION:2.0
PRODID:Spatie calendar-links
BEGIN:VEVENT
UID:https://sachsen.tours/?post_type=mi-event-date&#038;p=38846
SUMMARY:Zschachwitzer Dorfmeile
DTSTAMP:20261211T230000Z
DTSTART;VALUE=DATE:20261212
DURATION:P1D
DESCRIPTION:Mehr Informationen: https://sachsen.tours/veranstaltungen/zschachwitzer-dorfmeile/
LOCATION:Berthold-Haupt-Straße \, 01259 Dresden 
END:VEVENT
END:VCALENDAR